BEGIN:VCALENDAR
VERSION:2.0
PRODID:icalendar-ruby
CALSCALE:GREGORIAN
METHOD:PUBLISH
BEGIN:VEVENT
DTSTAMP:20260422T102331Z
UID:120-463685@harpethbaptist.org
DTSTART:20261014T130000Z
DTEND:20261014T140000Z
CLASS:PUBLIC
CREATED:20260421T193827
DESCRIPTION:Retired Old Men Eating Out (ROMEO)\n8:00 am each Wednesday \nL
 ocation Varies \nContact Pastor Scotty \nSee the Group in the App \n 
LAST-MODIFIED:20260421T193827
LOCATION:
SUMMARY:R.O.M.E.O Breakfast
URL;VALUE=URI:https://harpethbaptist.org/events/r-o-m-e-o-breakfast/2026-10
 -14
ATTACH;FILENAME=Booklet_Ralph_Rousseau.jpg.jpeg;FMTTYPE=image/jpeg:https://
 dq5pwpg1q8ru0.cloudfront.net/2026/03/10/14/59/47/667a5b49-683b-4932-922b-4
 b1689f86cf7/Booklet_Ralph_Rousseau.jpg.jpeg
END:VEVENT
END:VCALENDAR
