BEGIN:VCALENDAR
VERSION:2.0
PRODID:icalendar-ruby
CALSCALE:GREGORIAN
METHOD:PUBLISH
BEGIN:VEVENT
DTSTAMP:20260421T143720Z
UID:71-462020@harpethbaptist.org
DTSTART:20261022T000000Z
DTEND:20261022T010000Z
CLASS:PUBLIC
CREATED:20260421T090632
DESCRIPTION:Midweek worship service. \n\nHymn singing \nPrayer time \nBi
 ble Exposition \n
LAST-MODIFIED:20260421T090632
LOCATION:Harpeth Baptist Church 1011 Butterworth Road Kingston Springs\, TN
  37082
SUMMARY:Midweek Service
URL;VALUE=URI:https://harpethbaptist.org/events/midweek-service/2026-10-21
ATTACH;FILENAME=midweek.jpeg;FMTTYPE=image/jpeg:https://dq5pwpg1q8ru0.cloud
 front.net/2025/01/08/22/17/25/71f21c44-e1bf-4429-aba9-6895b76528d0/midweek
 .jpeg
END:VEVENT
END:VCALENDAR
