BEGIN:VCALENDAR
VERSION:2.0
PRODID:icalendar-ruby
CALSCALE:GREGORIAN
METHOD:PUBLISH
BEGIN:VEVENT
DTSTAMP:20260423T130738Z
UID:128-447079@harpethbaptist.org
DTSTART:20260621T153000Z
DTEND:20260621T163000Z
CLASS:PUBLIC
CREATED:20260414T160809
DESCRIPTION:
LAST-MODIFIED:20260414T160809
LOCATION:Harpeth Baptist Church 1011 Butterworth Road Kingston Springs\, TN
  37082
SUMMARY:Child Dedication Service
URL;VALUE=URI:https://harpethbaptist.org/events/child-dedication-service/20
 26-06-21
ATTACH;FILENAME=Child-Dedication.png;FMTTYPE=image/png:https://dq5pwpg1q8ru
 0.cloudfront.net/2026/04/14/21/08/08/0f62953f-493a-4eff-8328-c761a5259885/
 Child-Dedication.png
END:VEVENT
END:VCALENDAR
